BEGIN:VCALENDAR
VERSION:2.0
PRODID:-//CERN//INDICO//EN
BEGIN:VEVENT
SUMMARY:Investigation of Ionospheric Electron Density Change during Solar 
 Eclipse on March 20\, 2015 over Kharkiv\, Ukraine and its comparison with 
 predictions of NeQuick 2 and IRI-2016 models
DTSTART;VALUE=DATE-TIME:20191010T122000Z
DTEND;VALUE=DATE-TIME:20191010T124000Z
DTSTAMP;VALUE=DATE-TIME:20240229T210109Z
UID:indico-contribution-59@ictp.it
DESCRIPTION:Speakers: R. ATICI ET AL. (PRESENTED BY S. V. PANASENKO) (Mus 
 Alparslan University\, Turkey)\n//indico.ictp.it/event/8726/session/14/con
 tribution/59
LOCATION:ICTP Leonardo Building - Euler Lecture Hall
URL://indico.ictp.it/event/8726/session/14/contribution/59
END:VEVENT
END:VCALENDAR
