BEGIN:VCALENDAR
VERSION:2.0
PRODID:-//CERN//INDICO//EN
BEGIN:VEVENT
SUMMARY:Welcome Reception
DTSTART;VALUE=DATE-TIME:20191021T170000Z
DTEND;VALUE=DATE-TIME:20191021T183000Z
DTSTAMP;VALUE=DATE-TIME:20240229T205426Z
UID:indico-event-3-0@ictp.it
DESCRIPTION:All participants of the Joint ICTP-IAEA Workshop on Electrosta
 tic Accelerator Technologies\,              Basic Instruments and Analytic
 al Techniques are cordially invited to a Welcome Reception\n\n//indico.ict
 p.it/event/8728/session/3/?slotId=0
LOCATION:ICTP Adriatico Guest House - Cafeteria
URL://indico.ictp.it/event/8728/session/3/?slotId=0
END:VEVENT
END:VCALENDAR
