BEGIN:VCALENDAR
VERSION:2.0
PRODID:-//CERN//INDICO//EN
BEGIN:VEVENT
SUMMARY:Global Modelling and regional investment needs for Sustainable Dev
 elopment
DTSTART;VALUE=DATE-TIME:20190627T083000Z
DTEND;VALUE=DATE-TIME:20190627T091000Z
DTSTAMP;VALUE=DATE-TIME:20240229T221121Z
UID:indico-contribution-130@ictp.it
DESCRIPTION:Speakers: \nChair - Magda Moner\, Joint Research Centre\, Euro
 pean Commission\n\nDaniel Russo\, International Renewable Energy Agency (I
 RENA)\n● Insights from a renewable energy perspective\n\nArthur Contejea
 n\, International Energy Agency (IEA)\n● Insights from the World Energy 
 Outlook\n\nDimitrios Mentis\, World Resources Institute (WRI)\n●  mappin
 g platform to connect SDG 7 to sustainable development solutions\n\nDiscus
 sion\n\n//indico.ictp.it/event/8751/session/55/contribution/130
LOCATION:ICTP Leonardo Building - Budinich Lecture Hall
URL://indico.ictp.it/event/8751/session/55/contribution/130
END:VEVENT
END:VCALENDAR
