BEGIN:VCALENDAR
VERSION:2.0
PRODID:-//CERN//INDICO//EN
BEGIN:VEVENT
SUMMARY:Exercise 5: Data extraction to CSV
DTSTART;VALUE=DATE-TIME:20190613T110000Z
DTEND;VALUE=DATE-TIME:20190613T131500Z
DTSTAMP;VALUE=DATE-TIME:20240229T221326Z
UID:indico-contribution-15@ictp.it
DESCRIPTION:Speakers: \n//indico.ictp.it/event/8751/session/5/contribution
 /15
LOCATION: Adriatico Guest House - InfoLab
URL://indico.ictp.it/event/8751/session/5/contribution/15
END:VEVENT
END:VCALENDAR
