BEGIN:VCALENDAR
VERSION:2.0
PRODID:-//CERN//INDICO//EN
BEGIN:VEVENT
SUMMARY:Lecture 5. How the GEP Scenario Generator functions – Introducti
 on to Python and the processes behind GEP Scenario Generator (OnSSET)
DTSTART;VALUE=DATE-TIME:20190614T070000Z
DTEND;VALUE=DATE-TIME:20190614T081500Z
DTSTAMP;VALUE=DATE-TIME:20240229T220948Z
UID:indico-contribution-17@ictp.it
DESCRIPTION:Speakers: \nThis lecture introduces the processes and the prog
 ramming language (Python) behind the electrification tool.\n\n//indico.ict
 p.it/event/8751/session/6/contribution/17
LOCATION: Adriatico Guest House - InfoLab
URL://indico.ictp.it/event/8751/session/6/contribution/17
END:VEVENT
END:VCALENDAR
