BEGIN:VCALENDAR
VERSION:2.0
PRODID:-//CERN//INDICO//EN
BEGIN:VEVENT
SUMMARY:Lecture 6. Energy modelling\, scenario development and sensitivity
  analysis
DTSTART;VALUE=DATE-TIME:20190617T070000Z
DTEND;VALUE=DATE-TIME:20190617T081500Z
DTSTAMP;VALUE=DATE-TIME:20240229T221639Z
UID:indico-contribution-21@ictp.it
DESCRIPTION:Speakers: \nThis lecture explains more theory of modelling act
 ivities in general. How scenarios and sensitivity analysis is used and the
  link between science and policy.\n\n//indico.ictp.it/event/8751/session/7
 /contribution/21
LOCATION: Adriatico Guest House - InfoLab
URL://indico.ictp.it/event/8751/session/7/contribution/21
END:VEVENT
END:VCALENDAR
