BEGIN:VCALENDAR
VERSION:2.0
PRODID:-//CERN//INDICO//EN
BEGIN:VEVENT
SUMMARY:Exercise 7: Assessing the investment cost required to meet SDG7
DTSTART;VALUE=DATE-TIME:20190617T084500Z
DTEND;VALUE=DATE-TIME:20190617T100000Z
DTSTAMP;VALUE=DATE-TIME:20240229T221302Z
UID:indico-contribution-22@ictp.it
DESCRIPTION:Speakers: \nIn this exercise the participants will use the GEP
  Scenario Generator – OnSSET to run a scenario analysis\, and assess the
  investment cost required to meet SDG7\n\n//indico.ictp.it/event/8751/sess
 ion/7/contribution/22
LOCATION: Adriatico Guest House - InfoLab
URL://indico.ictp.it/event/8751/session/7/contribution/22
END:VEVENT
END:VCALENDAR
