BEGIN:VCALENDAR
VERSION:2.0
PRODID:-//CERN//INDICO//EN
BEGIN:VEVENT
SUMMARY:Presentation of country studies
DTSTART;VALUE=DATE-TIME:20190625T070000Z
DTEND;VALUE=DATE-TIME:20190625T081500Z
DTSTAMP;VALUE=DATE-TIME:20240229T221703Z
UID:indico-contribution-44@ictp.it
DESCRIPTION:Speakers: \nParticipants presentation of their tailored geospa
 tial electrification study. 10 min each.\n\n//indico.ictp.it/event/8751/se
 ssion/13/contribution/44
LOCATION: Adriatico Guest House - InfoLab
URL://indico.ictp.it/event/8751/session/13/contribution/44
END:VEVENT
END:VCALENDAR
