BEGIN:VCALENDAR
VERSION:2.0
PRODID:-//CERN//INDICO//EN
BEGIN:VEVENT
SUMMARY:Exercise 2: Working with Vector data : Data types\, format\, basic
  functions
DTSTART;VALUE=DATE-TIME:20190611T084500Z
DTEND;VALUE=DATE-TIME:20190611T100000Z
DTSTAMP;VALUE=DATE-TIME:20240229T221151Z
UID:indico-contribution-6@ictp.it
DESCRIPTION:Speakers: \nIn this exercise the participants will get acquain
 ted to working with GIS (using QGIS) in general\, and vector data in parti
 cular. Focusing on energy-related data.\n\n//indico.ictp.it/event/8751/ses
 sion/3/contribution/6
LOCATION: Adriatico Guest House - InfoLab
URL://indico.ictp.it/event/8751/session/3/contribution/6
END:VEVENT
END:VCALENDAR
