BEGIN:VCALENDAR
VERSION:2.0
PRODID:-//CERN//INDICO//EN
BEGIN:VEVENT
SUMMARY:Work session: Installation of MoManI and other questions
DTSTART;VALUE=DATE-TIME:20190610T134500Z
DTEND;VALUE=DATE-TIME:20190610T150000Z
DTSTAMP;VALUE=DATE-TIME:20240229T221258Z
UID:indico-contribution-68@ictp.it
DESCRIPTION:Speakers: \n//indico.ictp.it/event/8751/session/19/contributio
 n/68
LOCATION:ICTP Week 1 and 2: Giambiagi\;Week 3: day 4 and 5 Budinich\;Wee
 k 1\, 2 and partial of 3 (from 10 to 26 June): Lundqvist
URL://indico.ictp.it/event/8751/session/19/contribution/68
END:VEVENT
END:VCALENDAR
