BEGIN:VCALENDAR
VERSION:2.0
PRODID:-//CERN//INDICO//EN
BEGIN:VEVENT
SUMMARY:Defining energy demands in OSeMOSYS / Hands on session: Defining e
 nergy demands in OSeMOSYS
DTSTART;VALUE=DATE-TIME:20190612T070000Z
DTEND;VALUE=DATE-TIME:20190612T081500Z
DTSTAMP;VALUE=DATE-TIME:20240229T221448Z
UID:indico-contribution-73@ictp.it
DESCRIPTION:Speakers: \n//indico.ictp.it/event/8751/session/21/contributio
 n/73
LOCATION:ICTP Week 1 and 2: Giambiagi\;Week 3: day 4 and 5 Budinich\;Wee
 k 1\, 2 and partial of 3 (from 10 to 26 June): Lundqvist
URL://indico.ictp.it/event/8751/session/21/contribution/73
END:VEVENT
END:VCALENDAR
