BEGIN:VCALENDAR
VERSION:2.0
PRODID:-//CERN//INDICO//EN
BEGIN:VEVENT
SUMMARY:Electricity supply system in OSeMOSYS part 1\n(Thermal power plant
 s & T&D)
DTSTART;VALUE=DATE-TIME:20190613T070000Z
DTEND;VALUE=DATE-TIME:20190613T081500Z
DTSTAMP;VALUE=DATE-TIME:20240229T221716Z
UID:indico-contribution-77@ictp.it
DESCRIPTION:Speakers: \n//indico.ictp.it/event/8751/session/22/contributio
 n/77
LOCATION:ICTP Week 1 and 2: Giambiagi\;Week 3: day 4 and 5 Budinich\;Wee
 k 1\, 2 and partial of 3 (from 10 to 26 June): Lundqvist
URL://indico.ictp.it/event/8751/session/22/contribution/77
END:VEVENT
END:VCALENDAR
