BEGIN:VCALENDAR
VERSION:2.0
PRODID:-//CERN//INDICO//EN
BEGIN:VEVENT
SUMMARY:Electricity supply system in OSeMOSYS part 3 (Wind and solar) / Ha
 nds on session: Defining the electricity supply in OSeMOSYS (part 3)
DTSTART;VALUE=DATE-TIME:20190614T084500Z
DTEND;VALUE=DATE-TIME:20190614T100000Z
DTSTAMP;VALUE=DATE-TIME:20240229T221109Z
UID:indico-contribution-82@ictp.it
DESCRIPTION:Speakers: \n//indico.ictp.it/event/8751/session/23/contributio
 n/82
LOCATION:ICTP Week 1 and 2: Giambiagi\;Week 3: day 4 and 5 Budinich\;Wee
 k 1\, 2 and partial of 3 (from 10 to 26 June): Lundqvist
URL://indico.ictp.it/event/8751/session/23/contribution/82
END:VEVENT
END:VCALENDAR
