BEGIN:VCALENDAR
VERSION:2.0
PRODID:-//CERN//INDICO//EN
BEGIN:VEVENT
SUMMARY:Emissions representation in OSeMOSYS / Hands on session: Emissions
  representation in OSeMOSYS
DTSTART;VALUE=DATE-TIME:20190617T070000Z
DTEND;VALUE=DATE-TIME:20190617T081500Z
DTSTAMP;VALUE=DATE-TIME:20240229T221534Z
UID:indico-contribution-85@ictp.it
DESCRIPTION:Speakers: \n//indico.ictp.it/event/8751/session/24/contributio
 n/85
LOCATION:ICTP Week 1 and 2: Giambiagi\;Week 3: day 4 and 5 Budinich\;Wee
 k 1\, 2 and partial of 3 (from 10 to 26 June): Lundqvist
URL://indico.ictp.it/event/8751/session/24/contribution/85
END:VEVENT
END:VCALENDAR
