BEGIN:VCALENDAR
VERSION:2.0
PRODID:-//CERN//INDICO//EN
BEGIN:VEVENT
SUMMARY:Work session: Developing your country model
DTSTART;VALUE=DATE-TIME:20190619T110000Z
DTEND;VALUE=DATE-TIME:20190619T131500Z
DTSTAMP;VALUE=DATE-TIME:20240229T221437Z
UID:indico-contribution-95@ictp.it
DESCRIPTION:Speakers: VIJAY MODI (Columbia University)\n//indico.ictp.it/e
 vent/8751/session/26/contribution/95
LOCATION:ICTP Week 1 and 2: Giambiagi\;Week 3: day 4 and 5 Budinich\;Wee
 k 1\, 2 and partial of 3 (from 10 to 26 June): Lundqvist
URL://indico.ictp.it/event/8751/session/26/contribution/95
END:VEVENT
END:VCALENDAR
