BEGIN:VCALENDAR
VERSION:2.0
PRODID:-//CERN//INDICO//EN
BEGIN:VEVENT
SUMMARY:Emissions representation in OSeMOSYS / Hands on session: Emissions
  representation in OSeMOSYS
DTSTART;VALUE=DATE-TIME:20190617T070000Z
DTEND;VALUE=DATE-TIME:20190617T081500Z
DTSTAMP;VALUE=DATE-TIME:20240229T221454Z
UID:indico-contribution-24-0-85@ictp.it
DESCRIPTION:Speakers: \n//indico.ictp.it/event/8751/session/24/contributio
 n/85
LOCATION:ICTP Week 1 and 2: Giambiagi\;Week 3: day 4 and 5 Budinich\;Wee
 k 1\, 2 and partial of 3 (from 10 to 26 June): Lundqvist
URL://indico.ictp.it/event/8751/session/24/contribution/85
END:VEVENT
BEGIN:VEVENT
SUMMARY:Implementing capacity reserve in OSeMOSYS / Hands on session: impl
 ementing capacity reserve in OSeMOSYS
DTSTART;VALUE=DATE-TIME:20190617T084500Z
DTEND;VALUE=DATE-TIME:20190617T100000Z
DTSTAMP;VALUE=DATE-TIME:20240229T221454Z
UID:indico-contribution-24-0-86@ictp.it
DESCRIPTION:Speakers: \n//indico.ictp.it/event/8751/session/24/contributio
 n/86
LOCATION:ICTP Week 1 and 2: Giambiagi\;Week 3: day 4 and 5 Budinich\;Wee
 k 1\, 2 and partial of 3 (from 10 to 26 June): Lundqvist
URL://indico.ictp.it/event/8751/session/24/contribution/86
END:VEVENT
BEGIN:VEVENT
SUMMARY:Work session: Developing your country model
DTSTART;VALUE=DATE-TIME:20190617T110000Z
DTEND;VALUE=DATE-TIME:20190617T131500Z
DTSTAMP;VALUE=DATE-TIME:20240229T221454Z
UID:indico-contribution-24-0-87@ictp.it
DESCRIPTION:Speakers: \n//indico.ictp.it/event/8751/session/24/contributio
 n/87
LOCATION:ICTP Week 1 and 2: Giambiagi\;Week 3: day 4 and 5 Budinich\;Wee
 k 1\, 2 and partial of 3 (from 10 to 26 June): Lundqvist
URL://indico.ictp.it/event/8751/session/24/contribution/87
END:VEVENT
BEGIN:VEVENT
SUMMARY:Work session: Developing your country model
DTSTART;VALUE=DATE-TIME:20190617T134500Z
DTEND;VALUE=DATE-TIME:20190617T150000Z
DTSTAMP;VALUE=DATE-TIME:20240229T221454Z
UID:indico-contribution-24-0-88@ictp.it
DESCRIPTION:Speakers: \n//indico.ictp.it/event/8751/session/24/contributio
 n/88
LOCATION:ICTP Week 1 and 2: Giambiagi\;Week 3: day 4 and 5 Budinich\;Wee
 k 1\, 2 and partial of 3 (from 10 to 26 June): Lundqvist
URL://indico.ictp.it/event/8751/session/24/contribution/88
END:VEVENT
END:VCALENDAR
