BEGIN:VCALENDAR
VERSION:2.0
PRODID:-//CERN//INDICO//EN
BEGIN:VEVENT
SUMMARY:Defining scenarios and implementation in OSeMOSYS/ Hands on sessio
 n: Defining scenarios and implementation in OSeMOSYS
DTSTART;VALUE=DATE-TIME:20190618T070000Z
DTEND;VALUE=DATE-TIME:20190618T081500Z
DTSTAMP;VALUE=DATE-TIME:20240229T221508Z
UID:indico-contribution-25-0-89@ictp.it
DESCRIPTION:Speakers: \n//indico.ictp.it/event/8751/session/25/contributio
 n/89
LOCATION:ICTP Week 1 and 2: Giambiagi\;Week 3: day 4 and 5 Budinich\;Wee
 k 1\, 2 and partial of 3 (from 10 to 26 June): Lundqvist
URL://indico.ictp.it/event/8751/session/25/contribution/89
END:VEVENT
BEGIN:VEVENT
SUMMARY:Work session: Developing your country model
DTSTART;VALUE=DATE-TIME:20190618T084500Z
DTEND;VALUE=DATE-TIME:20190618T100000Z
DTSTAMP;VALUE=DATE-TIME:20240229T221508Z
UID:indico-contribution-25-0-90@ictp.it
DESCRIPTION:Speakers: \n//indico.ictp.it/event/8751/session/25/contributio
 n/90
LOCATION:ICTP Week 1 and 2: Giambiagi\;Week 3: day 4 and 5 Budinich\;Wee
 k 1\, 2 and partial of 3 (from 10 to 26 June): Lundqvist
URL://indico.ictp.it/event/8751/session/25/contribution/90
END:VEVENT
BEGIN:VEVENT
SUMMARY:Work session: Developing your country model
DTSTART;VALUE=DATE-TIME:20190618T110000Z
DTEND;VALUE=DATE-TIME:20190618T131500Z
DTSTAMP;VALUE=DATE-TIME:20240229T221508Z
UID:indico-contribution-25-0-91@ictp.it
DESCRIPTION:Speakers: \n//indico.ictp.it/event/8751/session/25/contributio
 n/91
LOCATION:ICTP Week 1 and 2: Giambiagi\;Week 3: day 4 and 5 Budinich\;Wee
 k 1\, 2 and partial of 3 (from 10 to 26 June): Lundqvist
URL://indico.ictp.it/event/8751/session/25/contribution/91
END:VEVENT
BEGIN:VEVENT
SUMMARY:Work session: Developing your country model
DTSTART;VALUE=DATE-TIME:20190618T134500Z
DTEND;VALUE=DATE-TIME:20190618T150000Z
DTSTAMP;VALUE=DATE-TIME:20240229T221508Z
UID:indico-contribution-25-0-92@ictp.it
DESCRIPTION:Speakers: \n//indico.ictp.it/event/8751/session/25/contributio
 n/92
LOCATION:ICTP Week 1 and 2: Giambiagi\;Week 3: day 4 and 5 Budinich\;Wee
 k 1\, 2 and partial of 3 (from 10 to 26 June): Lundqvist
URL://indico.ictp.it/event/8751/session/25/contribution/92
END:VEVENT
END:VCALENDAR
