BEGIN:VCALENDAR
VERSION:2.0
PRODID:-//CERN//INDICO//EN
BEGIN:VEVENT
SUMMARY:Building Elements of Climate\, Land-use\, Energy and Water strateg
 ies (CLEWs) in OSeMOSYS: Introduction to water and land systems
DTSTART;VALUE=DATE-TIME:20190619T070000Z
DTEND;VALUE=DATE-TIME:20190619T081500Z
DTSTAMP;VALUE=DATE-TIME:20240229T221139Z
UID:indico-contribution-26-0-93@ictp.it
DESCRIPTION:Speakers: \n//indico.ictp.it/event/8751/session/26/contributio
 n/93
LOCATION:ICTP Week 1 and 2: Giambiagi\;Week 3: day 4 and 5 Budinich\;Wee
 k 1\, 2 and partial of 3 (from 10 to 26 June): Lundqvist
URL://indico.ictp.it/event/8751/session/26/contribution/93
END:VEVENT
BEGIN:VEVENT
SUMMARY:Building Elements of Climate\, Land-use\, Energy and Water strateg
 ies (CLEWs) in OSeMOSYS: Introduction to water and land systems
DTSTART;VALUE=DATE-TIME:20190619T084500Z
DTEND;VALUE=DATE-TIME:20190619T100000Z
DTSTAMP;VALUE=DATE-TIME:20240229T221139Z
UID:indico-contribution-26-0-94@ictp.it
DESCRIPTION:Speakers: \n//indico.ictp.it/event/8751/session/26/contributio
 n/94
LOCATION:ICTP Week 1 and 2: Giambiagi\;Week 3: day 4 and 5 Budinich\;Wee
 k 1\, 2 and partial of 3 (from 10 to 26 June): Lundqvist
URL://indico.ictp.it/event/8751/session/26/contribution/94
END:VEVENT
BEGIN:VEVENT
SUMMARY:Work session: Developing your country model
DTSTART;VALUE=DATE-TIME:20190619T110000Z
DTEND;VALUE=DATE-TIME:20190619T131500Z
DTSTAMP;VALUE=DATE-TIME:20240229T221139Z
UID:indico-contribution-26-0-95@ictp.it
DESCRIPTION:Speakers: VIJAY MODI (Columbia University)\n//indico.ictp.it/e
 vent/8751/session/26/contribution/95
LOCATION:ICTP Week 1 and 2: Giambiagi\;Week 3: day 4 and 5 Budinich\;Wee
 k 1\, 2 and partial of 3 (from 10 to 26 June): Lundqvist
URL://indico.ictp.it/event/8751/session/26/contribution/95
END:VEVENT
BEGIN:VEVENT
SUMMARY:Work session: Developing your country model
DTSTART;VALUE=DATE-TIME:20190619T134500Z
DTEND;VALUE=DATE-TIME:20190619T150000Z
DTSTAMP;VALUE=DATE-TIME:20240229T221139Z
UID:indico-contribution-26-0-96@ictp.it
DESCRIPTION:Speakers: VIJAY MODI (Columbia University)\n//indico.ictp.it/e
 vent/8751/session/26/contribution/96
LOCATION:ICTP Week 1 and 2: Giambiagi\;Week 3: day 4 and 5 Budinich\;Wee
 k 1\, 2 and partial of 3 (from 10 to 26 June): Lundqvist
URL://indico.ictp.it/event/8751/session/26/contribution/96
END:VEVENT
END:VCALENDAR
