BEGIN:VCALENDAR
VERSION:2.0
PRODID:-//CERN//INDICO//EN
BEGIN:VEVENT
SUMMARY:Presentation of country studies
DTSTART;VALUE=DATE-TIME:20190625T070000Z
DTEND;VALUE=DATE-TIME:20190625T081500Z
DTSTAMP;VALUE=DATE-TIME:20240229T221128Z
UID:indico-contribution-30-0-109@ictp.it
DESCRIPTION:Speakers: \n//indico.ictp.it/event/8751/session/30/contributio
 n/109
LOCATION:ICTP Week 1 and 2: Giambiagi\;Week 3: day 4 and 5 Budinich\;Wee
 k 1\, 2 and partial of 3 (from 10 to 26 June): Lundqvist
URL://indico.ictp.it/event/8751/session/30/contribution/109
END:VEVENT
BEGIN:VEVENT
SUMMARY:Presentation of country studies
DTSTART;VALUE=DATE-TIME:20190625T084500Z
DTEND;VALUE=DATE-TIME:20190625T100000Z
DTSTAMP;VALUE=DATE-TIME:20240229T221128Z
UID:indico-contribution-30-0-110@ictp.it
DESCRIPTION:Speakers: \n//indico.ictp.it/event/8751/session/30/contributio
 n/110
LOCATION:ICTP Week 1 and 2: Giambiagi\;Week 3: day 4 and 5 Budinich\;Wee
 k 1\, 2 and partial of 3 (from 10 to 26 June): Lundqvist
URL://indico.ictp.it/event/8751/session/30/contribution/110
END:VEVENT
BEGIN:VEVENT
SUMMARY:Presentation of country studies
DTSTART;VALUE=DATE-TIME:20190625T110000Z
DTEND;VALUE=DATE-TIME:20190625T131500Z
DTSTAMP;VALUE=DATE-TIME:20240229T221128Z
UID:indico-contribution-30-0-111@ictp.it
DESCRIPTION:Speakers: \n//indico.ictp.it/event/8751/session/30/contributio
 n/111
LOCATION:ICTP Week 1 and 2: Giambiagi\;Week 3: day 4 and 5 Budinich\;Wee
 k 1\, 2 and partial of 3 (from 10 to 26 June): Lundqvist
URL://indico.ictp.it/event/8751/session/30/contribution/111
END:VEVENT
BEGIN:VEVENT
SUMMARY:Presentation of country studies
DTSTART;VALUE=DATE-TIME:20190625T134500Z
DTEND;VALUE=DATE-TIME:20190625T150000Z
DTSTAMP;VALUE=DATE-TIME:20240229T221128Z
UID:indico-contribution-30-0-112@ictp.it
DESCRIPTION:Speakers: \n//indico.ictp.it/event/8751/session/30/contributio
 n/112
LOCATION:ICTP Week 1 and 2: Giambiagi\;Week 3: day 4 and 5 Budinich\;Wee
 k 1\, 2 and partial of 3 (from 10 to 26 June): Lundqvist
URL://indico.ictp.it/event/8751/session/30/contribution/112
END:VEVENT
END:VCALENDAR
