BEGIN:VCALENDAR
VERSION:2.0
PRODID:-//CERN//INDICO//EN
BEGIN:VEVENT
SUMMARY:Focus group 1: Technical advances - interoperability\, data and mo
 del sharing
DTSTART;VALUE=DATE-TIME:20190626T123000Z
DTEND;VALUE=DATE-TIME:20190626T133000Z
DTSTAMP;VALUE=DATE-TIME:20240229T221619Z
UID:indico-contribution-35-0-117@ictp.it
DESCRIPTION:Speakers: \n//indico.ictp.it/event/8751/session/35/contributio
 n/117
LOCATION:ICTP Adriatico Guest House - Lundqvist Lecture Hall
URL://indico.ictp.it/event/8751/session/35/contribution/117
END:VEVENT
BEGIN:VEVENT
SUMMARY:Focus group 2: Outreach activities - annual outlooks and country e
 ngagement
DTSTART;VALUE=DATE-TIME:20190626T140000Z
DTEND;VALUE=DATE-TIME:20190626T150000Z
DTSTAMP;VALUE=DATE-TIME:20240229T221619Z
UID:indico-contribution-35-0-118@ictp.it
DESCRIPTION:Speakers: \n//indico.ictp.it/event/8751/session/35/contributio
 n/118
LOCATION:ICTP Adriatico Guest House - Lundqvist Lecture Hall
URL://indico.ictp.it/event/8751/session/35/contribution/118
END:VEVENT
END:VCALENDAR
