BEGIN:VCALENDAR
VERSION:2.0
PRODID:-//CERN//INDICO//EN
BEGIN:VEVENT
SUMMARY:Lecture 2 (Part 3). Introduction to the theory and application of 
 GIS
DTSTART;VALUE=DATE-TIME:20190612T070000Z
DTEND;VALUE=DATE-TIME:20190612T081500Z
DTSTAMP;VALUE=DATE-TIME:20240229T221559Z
UID:indico-contribution-4-0-9@ictp.it
DESCRIPTION:Speakers: \nThis lecture serves as an introduction to general 
 GIS concepts and operations\n\n//indico.ictp.it/event/8751/session/4/contr
 ibution/9
LOCATION: Adriatico Guest House - InfoLab
URL://indico.ictp.it/event/8751/session/4/contribution/9
END:VEVENT
BEGIN:VEVENT
SUMMARY:Exercise 3: Working with raster data : Data types\, format\, basic
  functions
DTSTART;VALUE=DATE-TIME:20190612T084500Z
DTEND;VALUE=DATE-TIME:20190612T100000Z
DTSTAMP;VALUE=DATE-TIME:20240229T221559Z
UID:indico-contribution-4-0-10@ictp.it
DESCRIPTION:Speakers: \nIn this exercise the participants will get acquain
 ted to working with GIS (using QGIS) in general\, and raster data in parti
 cular. Focusing on energy-related data.\n\n//indico.ictp.it/event/8751/ses
 sion/4/contribution/10
LOCATION: Adriatico Guest House - InfoLab
URL://indico.ictp.it/event/8751/session/4/contribution/10
END:VEVENT
BEGIN:VEVENT
SUMMARY:Exercise 3: Working with raster data : Data types\, format\, basic
  functions
DTSTART;VALUE=DATE-TIME:20190612T110000Z
DTEND;VALUE=DATE-TIME:20190612T131500Z
DTSTAMP;VALUE=DATE-TIME:20240229T221559Z
UID:indico-contribution-4-0-11@ictp.it
DESCRIPTION:Speakers: \n//indico.ictp.it/event/8751/session/4/contribution
 /11
LOCATION: Adriatico Guest House - InfoLab
URL://indico.ictp.it/event/8751/session/4/contribution/11
END:VEVENT
BEGIN:VEVENT
SUMMARY:Lecture 3. Application of GIS in electrification analysis and the 
 GEP Scenario Generator
DTSTART;VALUE=DATE-TIME:20190612T134500Z
DTEND;VALUE=DATE-TIME:20190612T150000Z
DTSTAMP;VALUE=DATE-TIME:20240229T221559Z
UID:indico-contribution-4-0-12@ictp.it
DESCRIPTION:Speakers: \nThis lecture explains how the GIS data is used to 
 determine the least-cost technology options in the electrification analysi
 s.\n\n//indico.ictp.it/event/8751/session/4/contribution/12
LOCATION: Adriatico Guest House - InfoLab
URL://indico.ictp.it/event/8751/session/4/contribution/12
END:VEVENT
END:VCALENDAR
