BEGIN:VCALENDAR
VERSION:2.0
PRODID:-//CERN//INDICO//EN
BEGIN:VEVENT
SUMMARY:For Administrative formalities
DTSTART;VALUE=DATE-TIME:20190923T113000Z
DTEND;VALUE=DATE-TIME:20190923T121500Z
DTSTAMP;VALUE=DATE-TIME:20240229T211646Z
UID:indico-contribution-46@ictp.it
DESCRIPTION:Speakers: CHARLIE R. SCALES (National Nuclear Laboratory\, Cen
 tral Laboratory\, Sellafield\; Penrith - United Kingdom)\nAll visitors nee
 ding to reach Enrico Fermi Building for Administrative purposes -\n\nThe S
 huttle will be available from Adriatico guesthouse at 13:15 to Fermi build
 ing Finance Office ground level - last return trip to Adriatico guesthouse
  departs at 14:20.\n\n//indico.ictp.it/event/8772/session/5/contribution/4
 6
LOCATION:ICTP Adriatico Guest House - Giambiagi Lecture Hall
URL://indico.ictp.it/event/8772/session/5/contribution/46
END:VEVENT
END:VCALENDAR
