BEGIN:VCALENDAR
VERSION:2.0
PRODID:-//CERN//INDICO//EN
BEGIN:VEVENT
SUMMARY:Participant Talk
DTSTART;VALUE=DATE-TIME:20190923T131500Z
DTEND;VALUE=DATE-TIME:20190923T133500Z
DTSTAMP;VALUE=DATE-TIME:20240229T211549Z
UID:indico-contribution-48@ictp.it
DESCRIPTION:Speakers: E.EALES ()\n//indico.ictp.it/event/8772/session/5/co
 ntribution/48
LOCATION:ICTP Adriatico Guest House - Giambiagi Lecture Hall
URL://indico.ictp.it/event/8772/session/5/contribution/48
END:VEVENT
END:VCALENDAR
