BEGIN:VCALENDAR
VERSION:2.0
PRODID:-//CERN//INDICO//EN
BEGIN:VEVENT
SUMMARY:Participant Talk
DTSTART;VALUE=DATE-TIME:20190923T133500Z
DTEND;VALUE=DATE-TIME:20190923T135500Z
DTSTAMP;VALUE=DATE-TIME:20240229T211553Z
UID:indico-contribution-49@ictp.it
DESCRIPTION:Speakers: G. CASTAGNOLA ()\n//indico.ictp.it/event/8772/sessio
 n/5/contribution/49
LOCATION:ICTP Adriatico Guest House - Giambiagi Lecture Hall
URL://indico.ictp.it/event/8772/session/5/contribution/49
END:VEVENT
END:VCALENDAR
