BEGIN:VCALENDAR
VERSION:2.0
PRODID:-//CERN//INDICO//EN
BEGIN:VEVENT
SUMMARY:Talk: UK vitrification programme
DTSTART;VALUE=DATE-TIME:20190924T121500Z
DTEND;VALUE=DATE-TIME:20190924T130000Z
DTSTAMP;VALUE=DATE-TIME:20240229T211643Z
UID:indico-contribution-58@ictp.it
DESCRIPTION:Speakers: N. GRIBBLE (National Nuclear Laboratory\, Warrington
  - United Kingdom)\n//indico.ictp.it/event/8772/session/6/contribution/58
LOCATION:ICTP Adriatico Guest House - Giambiagi Lecture Hall
URL://indico.ictp.it/event/8772/session/6/contribution/58
END:VEVENT
END:VCALENDAR
