BEGIN:VCALENDAR
VERSION:2.0
PRODID:-//CERN//INDICO//EN
BEGIN:VEVENT
SUMMARY:Lecture: Radiation damage
DTSTART;VALUE=DATE-TIME:20190926T070000Z
DTEND;VALUE=DATE-TIME:20190926T074500Z
DTSTAMP;VALUE=DATE-TIME:20240229T211551Z
UID:indico-contribution-73@ictp.it
DESCRIPTION:Speakers: M. PATEL (University of Liverpool\, United Kingdom)\
 n//indico.ictp.it/event/8772/session/8/contribution/73
LOCATION:ICTP Adriatico Guest House - Giambiagi Lecture Hall
URL://indico.ictp.it/event/8772/session/8/contribution/73
END:VEVENT
END:VCALENDAR
