BEGIN:VCALENDAR
VERSION:2.0
PRODID:-//CERN//INDICO//EN
BEGIN:VEVENT
SUMMARY:Talk: Radiation damage in single crystals
DTSTART;VALUE=DATE-TIME:20190926T074500Z
DTEND;VALUE=DATE-TIME:20190926T083000Z
DTSTAMP;VALUE=DATE-TIME:20240229T211620Z
UID:indico-contribution-74@ictp.it
DESCRIPTION:Speakers: P. SENGUPTA (Bhabba Atomic Research Centre\, Mumbai 
 - India)\n//indico.ictp.it/event/8772/session/8/contribution/74
LOCATION:ICTP Adriatico Guest House - Giambiagi Lecture Hall
URL://indico.ictp.it/event/8772/session/8/contribution/74
END:VEVENT
END:VCALENDAR
