BEGIN:VCALENDAR
VERSION:2.0
PRODID:-//CERN//INDICO//EN
BEGIN:VEVENT
SUMMARY:Talk : ageing of nuclear glass natural analogous\, A. Verney Carro
 n
DTSTART;VALUE=DATE-TIME:20190927T084500Z
DTEND;VALUE=DATE-TIME:20190927T093000Z
DTSTAMP;VALUE=DATE-TIME:20240229T211605Z
UID:indico-contribution-85@ictp.it
DESCRIPTION:Speakers: V. VERNEY-CARON (LISA/CNRS UMR\, Créteil - France)\
 n//indico.ictp.it/event/8772/session/9/contribution/85
LOCATION:ICTP Adriatico Guest House - Giambiagi Lecture Hall
URL://indico.ictp.it/event/8772/session/9/contribution/85
END:VEVENT
END:VCALENDAR
