BEGIN:VCALENDAR
VERSION:2.0
PRODID:-//CERN//INDICO//EN
BEGIN:VEVENT
SUMMARY:Lecture: Chemical durability of nuclear waste glasses.
DTSTART;VALUE=DATE-TIME:20190925T070000Z
DTEND;VALUE=DATE-TIME:20190925T074500Z
DTSTAMP;VALUE=DATE-TIME:20240229T211705Z
UID:indico-contribution-7-0-63@ictp.it
DESCRIPTION:Speakers: J. RYAN (PNNL\, Richland\, [WA]  United States of Am
 erica)\n//indico.ictp.it/event/8772/session/7/contribution/63
LOCATION:ICTP Adriatico Guest House - Giambiagi Lecture Hall
URL://indico.ictp.it/event/8772/session/7/contribution/63
END:VEVENT
BEGIN:VEVENT
SUMMARY:Talk: interaction of HLW glass with cement or cement waters
DTSTART;VALUE=DATE-TIME:20190925T074500Z
DTEND;VALUE=DATE-TIME:20190925T083000Z
DTSTAMP;VALUE=DATE-TIME:20240229T211705Z
UID:indico-contribution-7-0-64@ictp.it
DESCRIPTION:Speakers: K. LEMMENS (Belgian Nuclear Research Center\, Mol - 
 Belgium)\n//indico.ictp.it/event/8772/session/7/contribution/64
LOCATION:ICTP Adriatico Guest House - Giambiagi Lecture Hall
URL://indico.ictp.it/event/8772/session/7/contribution/64
END:VEVENT
BEGIN:VEVENT
SUMMARY:Talk: Uranium immobilisation in glasses
DTSTART;VALUE=DATE-TIME:20190925T084500Z
DTEND;VALUE=DATE-TIME:20190925T093000Z
DTSTAMP;VALUE=DATE-TIME:20240229T211705Z
UID:indico-contribution-7-0-65@ictp.it
DESCRIPTION:Speakers: W. MEYER (IAEA\, Vienna - Austria)\n//indico.ictp.it
 /event/8772/session/7/contribution/65
LOCATION:ICTP Adriatico Guest House - Giambiagi Lecture Hall
URL://indico.ictp.it/event/8772/session/7/contribution/65
END:VEVENT
BEGIN:VEVENT
SUMMARY:Lecture : Lecture: Chemical durability of nuclear waste glasses.
DTSTART;VALUE=DATE-TIME:20190925T093000Z
DTEND;VALUE=DATE-TIME:20190925T101500Z
DTSTAMP;VALUE=DATE-TIME:20240229T211705Z
UID:indico-contribution-7-0-66@ictp.it
DESCRIPTION:Speakers: J. RYAN (PNNL\, Richland\, [WA]  United States of Am
 erica)\n//indico.ictp.it/event/8772/session/7/contribution/66
LOCATION:ICTP Adriatico Guest House - Giambiagi Lecture Hall
URL://indico.ictp.it/event/8772/session/7/contribution/66
END:VEVENT
BEGIN:VEVENT
SUMMARY:Talk : Vapor hydratation of nuclear waste glass
DTSTART;VALUE=DATE-TIME:20190925T113000Z
DTEND;VALUE=DATE-TIME:20190925T121500Z
DTSTAMP;VALUE=DATE-TIME:20240229T211705Z
UID:indico-contribution-7-0-67@ictp.it
DESCRIPTION:Speakers: A. ABDELOUAS (IMT Atlantique\, Nantes - France)\n//i
 ndico.ictp.it/event/8772/session/7/contribution/67
LOCATION:ICTP Adriatico Guest House - Giambiagi Lecture Hall
URL://indico.ictp.it/event/8772/session/7/contribution/67
END:VEVENT
BEGIN:VEVENT
SUMMARY:Talk:  Cold cap modelling in waste vitrification
DTSTART;VALUE=DATE-TIME:20190925T121500Z
DTEND;VALUE=DATE-TIME:20190925T130000Z
DTSTAMP;VALUE=DATE-TIME:20240229T211705Z
UID:indico-contribution-7-0-68@ictp.it
DESCRIPTION:Speakers: R. POKORNY (University of Chemistry and Technology\,
  Prague - Czech Republic)\n//indico.ictp.it/event/8772/session/7/contribut
 ion/68
LOCATION:ICTP Adriatico Guest House - Giambiagi Lecture Hall
URL://indico.ictp.it/event/8772/session/7/contribution/68
END:VEVENT
BEGIN:VEVENT
SUMMARY:Participant Talk
DTSTART;VALUE=DATE-TIME:20190925T131500Z
DTEND;VALUE=DATE-TIME:20190925T133500Z
DTSTAMP;VALUE=DATE-TIME:20240229T211705Z
UID:indico-contribution-7-0-69@ictp.it
DESCRIPTION:Speakers: PARAISO KOLANI ()\n//indico.ictp.it/event/8772/sessi
 on/7/contribution/69
LOCATION:ICTP Adriatico Guest House - Giambiagi Lecture Hall
URL://indico.ictp.it/event/8772/session/7/contribution/69
END:VEVENT
BEGIN:VEVENT
SUMMARY:Participant Talk
DTSTART;VALUE=DATE-TIME:20190925T133500Z
DTEND;VALUE=DATE-TIME:20190925T135500Z
DTSTAMP;VALUE=DATE-TIME:20240229T211705Z
UID:indico-contribution-7-0-70@ictp.it
DESCRIPTION:Speakers: PATEL JEET ()\n//indico.ictp.it/event/8772/session/7
 /contribution/70
LOCATION:ICTP Adriatico Guest House - Giambiagi Lecture Hall
URL://indico.ictp.it/event/8772/session/7/contribution/70
END:VEVENT
BEGIN:VEVENT
SUMMARY:Participant Talk
DTSTART;VALUE=DATE-TIME:20190925T135500Z
DTEND;VALUE=DATE-TIME:20190925T141500Z
DTSTAMP;VALUE=DATE-TIME:20240229T211705Z
UID:indico-contribution-7-0-71@ictp.it
DESCRIPTION:Speakers: PEREIRA MACHADO NORMA MARIA ()\n//indico.ictp.it/eve
 nt/8772/session/7/contribution/71
LOCATION:ICTP Adriatico Guest House - Giambiagi Lecture Hall
URL://indico.ictp.it/event/8772/session/7/contribution/71
END:VEVENT
BEGIN:VEVENT
SUMMARY:Participant Talk
DTSTART;VALUE=DATE-TIME:20190925T141500Z
DTEND;VALUE=DATE-TIME:20190925T143500Z
DTSTAMP;VALUE=DATE-TIME:20240229T211705Z
UID:indico-contribution-7-0-72@ictp.it
DESCRIPTION:Speakers: RAUTIYAL PRINCE ()\n//indico.ictp.it/event/8772/sess
 ion/7/contribution/72
LOCATION:ICTP Adriatico Guest House - Giambiagi Lecture Hall
URL://indico.ictp.it/event/8772/session/7/contribution/72
END:VEVENT
END:VCALENDAR
