BEGIN:VCALENDAR
VERSION:2.0
PRODID:-//CERN//INDICO//EN
BEGIN:VEVENT
SUMMARY:Random matrices and the uses of Dyson-Schwinger equations - V
DTSTART;VALUE=DATE-TIME:20190927T070000Z
DTEND;VALUE=DATE-TIME:20190927T080000Z
DTSTAMP;VALUE=DATE-TIME:20240229T211133Z
UID:indico-contribution-30@ictp.it
DESCRIPTION:Speakers: GUIONNET\, Alice ()\n//indico.ictp.it/event/8900/ses
 sion/11/contribution/30
LOCATION:ICTP Budinich Lecture Hall (LB)
URL://indico.ictp.it/event/8900/session/11/contribution/30
END:VEVENT
END:VCALENDAR
