BEGIN:VCALENDAR
VERSION:2.0
PRODID:-//CERN//INDICO//EN
BEGIN:VEVENT
SUMMARY:Variational problems and spectral curves for the hermitian matrix 
 model with external source
DTSTART;VALUE=DATE-TIME:20190923T150000Z
DTEND;VALUE=DATE-TIME:20190923T154500Z
DTSTAMP;VALUE=DATE-TIME:20240229T211141Z
UID:indico-contribution-6@ictp.it
DESCRIPTION:Speakers: LIMA FERREIRA DA SILVA\, Guilherme (University of Mi
 chigan\, U.S.A.)\n//indico.ictp.it/event/8900/session/3/contribution/6
LOCATION:ICTP Budinich Lecture Hall (LB)
URL://indico.ictp.it/event/8900/session/3/contribution/6
END:VEVENT
END:VCALENDAR
