BEGIN:VCALENDAR
VERSION:2.0
PRODID:-//CERN//INDICO//EN
BEGIN:VEVENT
SUMMARY:OzGrav HF: A detector for studying nuclear matter at extreme press
 ure\, temperature and density
DTSTART;VALUE=DATE-TIME:20191014T081500Z
DTEND;VALUE=DATE-TIME:20191014T090000Z
DTSTAMP;VALUE=DATE-TIME:20240229T205521Z
UID:indico-contribution-130@ictp.it
DESCRIPTION:Speakers: DAVID OTTAWAY (University of Adelaide)\n//indico.ict
 p.it/event/9006/session/28/contribution/130
LOCATION:ICTP Adriatico Guest House - Kastler Lecture Hall
URL://indico.ictp.it/event/9006/session/28/contribution/130
END:VEVENT
END:VCALENDAR
