BEGIN:VCALENDAR
VERSION:2.0
PRODID:-//CERN//INDICO//EN
BEGIN:VEVENT
SUMMARY:Gravitational waves from phase transitions
DTSTART;VALUE=DATE-TIME:20191015T081500Z
DTEND;VALUE=DATE-TIME:20191015T090000Z
DTSTAMP;VALUE=DATE-TIME:20240229T205534Z
UID:indico-contribution-137@ictp.it
DESCRIPTION:Speakers: MARK HINDMARSH (University of Helsinki & University 
 of Sussex)\n//indico.ictp.it/event/9006/session/30/contribution/137
LOCATION:ICTP Adriatico Guest House - Kastler Lecture Hall
URL://indico.ictp.it/event/9006/session/30/contribution/137
END:VEVENT
END:VCALENDAR
