BEGIN:VCALENDAR
VERSION:2.0
PRODID:-//CERN//INDICO//EN
BEGIN:VEVENT
SUMMARY:Discussion
DTSTART;VALUE=DATE-TIME:20191015T093000Z
DTEND;VALUE=DATE-TIME:20191015T103000Z
DTSTAMP;VALUE=DATE-TIME:20240229T205537Z
UID:indico-contribution-138@ictp.it
DESCRIPTION:Speakers: CONVENER: SEBASTIAN STEINLECHNER ()\n//indico.ictp.i
 t/event/9006/session/30/contribution/138
LOCATION: Adriatico Guest House - Kastler Lecture Hall
URL://indico.ictp.it/event/9006/session/30/contribution/138
END:VEVENT
END:VCALENDAR
