BEGIN:VCALENDAR
VERSION:2.0
PRODID:-//CERN//INDICO//EN
BEGIN:VEVENT
SUMMARY:Combined continuous error suppression and error correction for qua
 ntum annealing
DTSTART;VALUE=DATE-TIME:20201006T011500Z
DTEND;VALUE=DATE-TIME:20201006T012000Z
DTSTAMP;VALUE=DATE-TIME:20240229T153929Z
UID:indico-contribution-19@ictp.it
DESCRIPTION:Speakers: JUAN ATALAYA (University of California Berkeley\, US
 A)\n//indico.ictp.it/event/9119/session/2/contribution/19
LOCATION:Online -  Online
URL://indico.ictp.it/event/9119/session/2/contribution/19
END:VEVENT
END:VCALENDAR
