BEGIN:VCALENDAR
VERSION:2.0
PRODID:-//CERN//INDICO//EN
BEGIN:VEVENT
SUMMARY:Achievements of the IARPA-QEO and DARPA-QAFS programs\, and the pr
 ospects for quantum enhancement with quantum annealing
DTSTART;VALUE=DATE-TIME:20201006T000000Z
DTEND;VALUE=DATE-TIME:20201006T004500Z
DTSTAMP;VALUE=DATE-TIME:20240229T155032Z
UID:indico-contribution-2-0-17@ictp.it
DESCRIPTION:Speakers: DANIEL LIDAR (University of Southern California\, US
 A)\nTalk recorded in Session 2\n\n//indico.ictp.it/event/9119/session/2/co
 ntribution/17
LOCATION:Online -  Online
URL://indico.ictp.it/event/9119/session/2/contribution/17
END:VEVENT
BEGIN:VEVENT
SUMMARY:The power of adiabatic quantum computation with no sign problem
DTSTART;VALUE=DATE-TIME:20201006T004500Z
DTEND;VALUE=DATE-TIME:20201006T011500Z
DTSTAMP;VALUE=DATE-TIME:20240229T155032Z
UID:indico-contribution-2-0-18@ictp.it
DESCRIPTION:Speakers: MATTHEW HASTINGS (Microsoft Corporation\, USA)\n//in
 dico.ictp.it/event/9119/session/2/contribution/18
LOCATION:Online -  Online
URL://indico.ictp.it/event/9119/session/2/contribution/18
END:VEVENT
BEGIN:VEVENT
SUMMARY:Combined continuous error suppression and error correction for qua
 ntum annealing
DTSTART;VALUE=DATE-TIME:20201006T011500Z
DTEND;VALUE=DATE-TIME:20201006T012000Z
DTSTAMP;VALUE=DATE-TIME:20240229T155032Z
UID:indico-contribution-2-0-19@ictp.it
DESCRIPTION:Speakers: JUAN ATALAYA (University of California Berkeley\, US
 A)\n//indico.ictp.it/event/9119/session/2/contribution/19
LOCATION:Online -  Online
URL://indico.ictp.it/event/9119/session/2/contribution/19
END:VEVENT
BEGIN:VEVENT
SUMMARY:Open-system Kibble-Zurek Mechanism in a Quantum Annealer
DTSTART;VALUE=DATE-TIME:20201006T012000Z
DTEND;VALUE=DATE-TIME:20201006T012500Z
DTSTAMP;VALUE=DATE-TIME:20240229T155032Z
UID:indico-contribution-2-0-20@ictp.it
DESCRIPTION:Speakers: YUKI BANDO (Institute of Innovative Research\, Tokyo
  Institute of Technology\, Japan)\n//indico.ictp.it/event/9119/session/2/c
 ontribution/20
LOCATION:Online -  Online
URL://indico.ictp.it/event/9119/session/2/contribution/20
END:VEVENT
BEGIN:VEVENT
SUMMARY:Anneal paths in capacitively shunted flux qubits
DTSTART;VALUE=DATE-TIME:20201006T012500Z
DTEND;VALUE=DATE-TIME:20201006T013000Z
DTSTAMP;VALUE=DATE-TIME:20240229T155032Z
UID:indico-contribution-2-0-21@ictp.it
DESCRIPTION:Speakers: MOSTAFA KHEZRI (University of Southern California\, 
 USA)\n//indico.ictp.it/event/9119/session/2/contribution/21
LOCATION:Online -  Online
URL://indico.ictp.it/event/9119/session/2/contribution/21
END:VEVENT
BEGIN:VEVENT
SUMMARY:Adiabatic theorem for unbounded Hamiltonians\, with applications t
 o superconducting circuits
DTSTART;VALUE=DATE-TIME:20201006T013000Z
DTEND;VALUE=DATE-TIME:20201006T013500Z
DTSTAMP;VALUE=DATE-TIME:20240229T155032Z
UID:indico-contribution-2-0-22@ictp.it
DESCRIPTION:Speakers: JENIA MOZGUNOV (University of Southern California\, 
 USA)\n//indico.ictp.it/event/9119/session/2/contribution/22
LOCATION:Online -  Online
URL://indico.ictp.it/event/9119/session/2/contribution/22
END:VEVENT
BEGIN:VEVENT
SUMMARY:Q&A session
DTSTART;VALUE=DATE-TIME:20201006T013500Z
DTEND;VALUE=DATE-TIME:20201006T014500Z
DTSTAMP;VALUE=DATE-TIME:20240229T155032Z
UID:indico-contribution-2-0-23@ictp.it
DESCRIPTION:Speakers: \n//indico.ictp.it/event/9119/session/2/contribution
 /23
LOCATION:Online -  Online
URL://indico.ictp.it/event/9119/session/2/contribution/23
END:VEVENT
BEGIN:VEVENT
SUMMARY:The sign problem and its relation to the spectral gap of quantum m
 any-body systems
DTSTART;VALUE=DATE-TIME:20201006T014500Z
DTEND;VALUE=DATE-TIME:20201006T021500Z
DTSTAMP;VALUE=DATE-TIME:20240229T155032Z
UID:indico-contribution-2-0-24@ictp.it
DESCRIPTION:Speakers: ELIZABETH CROSSON (Physics Center for Quantum Inform
 ation and Control University\, USA)\n//indico.ictp.it/event/9119/session/2
 /contribution/24
LOCATION:Online -  Online
URL://indico.ictp.it/event/9119/session/2/contribution/24
END:VEVENT
BEGIN:VEVENT
SUMMARY:Quantum Annealing and Information Encoding in the Transverse Ising
  Model
DTSTART;VALUE=DATE-TIME:20201006T021500Z
DTEND;VALUE=DATE-TIME:20201006T030000Z
DTSTAMP;VALUE=DATE-TIME:20240229T155032Z
UID:indico-contribution-2-0-25@ictp.it
DESCRIPTION:Speakers: THOMAS ROSENBAUM (Caltech\, USA)\n//indico.ictp.it/e
 vent/9119/session/2/contribution/25
LOCATION:Online -  Online
URL://indico.ictp.it/event/9119/session/2/contribution/25
END:VEVENT
END:VCALENDAR
