BEGIN:VCALENDAR
VERSION:2.0
PRODID:-//CERN//INDICO//EN
BEGIN:VEVENT
SUMMARY:Conclusions 
DTSTART;VALUE=DATE-TIME:20200723T155500Z
DTEND;VALUE=DATE-TIME:20200723T160000Z
DTSTAMP;VALUE=DATE-TIME:20240229T174347Z
UID:indico-contribution-6@ictp.it
DESCRIPTION:Speakers: \n//indico.ictp.it/event/9383/session/20/contributio
 n/6
LOCATION:Online -  Virtual
URL://indico.ictp.it/event/9383/session/20/contribution/6
END:VEVENT
END:VCALENDAR
