BEGIN:VCALENDAR
VERSION:2.0
PRODID:-//CERN//INDICO//EN
BEGIN:VEVENT
SUMMARY:Poster session 2
DTSTART;VALUE=DATE-TIME:20200930T160000Z
DTEND;VALUE=DATE-TIME:20200930T180000Z
DTSTAMP;VALUE=DATE-TIME:20240229T155924Z
UID:indico-contribution-89@ictp.it
DESCRIPTION:Speakers: \n//indico.ictp.it/event/9408/session/58/contributio
 n/89
LOCATION:Online -  Online
URL://indico.ictp.it/event/9408/session/58/contribution/89
END:VEVENT
END:VCALENDAR
