BEGIN:VCALENDAR
VERSION:2.0
PRODID:-//CERN//INDICO//EN
BEGIN:VEVENT
SUMMARY:TUTORIAL on Quantum Black Holes
DTSTART;VALUE=DATE-TIME:20200825T161500Z
DTEND;VALUE=DATE-TIME:20200825T170000Z
DTSTAMP;VALUE=DATE-TIME:20240229T164941Z
UID:indico-contribution-570@ictp.it
DESCRIPTION:Speakers: EDGAR SHAGHOULIAN - GROUP A / RAGHU MAHAJAN - GROUP 
 B (Cornell / Stanford)\nTwo Separete Rooms: Group A & Group B\n(not LiveSt
 reamed on YouTube)\n\n//indico.ictp.it/event/9424/session/141/contribution
 /570
LOCATION:Zoom Meeting ZOOM
URL://indico.ictp.it/event/9424/session/141/contribution/570
END:VEVENT
END:VCALENDAR
