BEGIN:VCALENDAR
VERSION:2.0
PRODID:-//CERN//INDICO//EN
BEGIN:VEVENT
SUMMARY:Entanglement in quantum field theory - Lecture 4
DTSTART;VALUE=DATE-TIME:20200904T110000Z
DTEND;VALUE=DATE-TIME:20200904T120000Z
DTSTAMP;VALUE=DATE-TIME:20240229T164903Z
UID:indico-contribution-597@ictp.it
DESCRIPTION:Speakers: HORACIO CASINI (Centro Atomico Bariloche)\n//indico.
 ictp.it/event/9424/session/149/contribution/597
LOCATION:Zoom Meeting ZOOM
URL://indico.ictp.it/event/9424/session/149/contribution/597
END:VEVENT
END:VCALENDAR
