BEGIN:VCALENDAR
VERSION:2.0
PRODID:-//CERN//INDICO//EN
BEGIN:VEVENT
SUMMARY:Three avatars of Mock Modularity (Part I) - Lecture 2
DTSTART;VALUE=DATE-TIME:20200825T110000Z
DTEND;VALUE=DATE-TIME:20200825T120000Z
DTSTAMP;VALUE=DATE-TIME:20240229T164929Z
UID:indico-contribution-141-0-567@ictp.it
DESCRIPTION:Speakers: ATISH DABHOLKAR (ICTP)\n//indico.ictp.it/event/9424/
 session/141/contribution/567
LOCATION:Zoom Meeting ZOOM
URL://indico.ictp.it/event/9424/session/141/contribution/567
END:VEVENT
BEGIN:VEVENT
SUMMARY:Quantum Black Holes - Lecture 2
DTSTART;VALUE=DATE-TIME:20200825T121500Z
DTEND;VALUE=DATE-TIME:20200825T131500Z
DTSTAMP;VALUE=DATE-TIME:20240229T164929Z
UID:indico-contribution-141-0-568@ictp.it
DESCRIPTION:Speakers: AHMED ALMHEIRI (IAS\, Princeton)\n//indico.ictp.it/e
 vent/9424/session/141/contribution/568
LOCATION:Zoom Meeting ZOOM
URL://indico.ictp.it/event/9424/session/141/contribution/568
END:VEVENT
BEGIN:VEVENT
SUMMARY:More on quantum black holes - Lecture 2
DTSTART;VALUE=DATE-TIME:20200825T150000Z
DTEND;VALUE=DATE-TIME:20200825T160000Z
DTSTAMP;VALUE=DATE-TIME:20240229T164929Z
UID:indico-contribution-141-0-569@ictp.it
DESCRIPTION:Speakers: DOUGLAS STANFORD (Stanford)\n//indico.ictp.it/event/
 9424/session/141/contribution/569
LOCATION:Zoom Meeting ZOOM
URL://indico.ictp.it/event/9424/session/141/contribution/569
END:VEVENT
BEGIN:VEVENT
SUMMARY:TUTORIAL on Quantum Black Holes
DTSTART;VALUE=DATE-TIME:20200825T161500Z
DTEND;VALUE=DATE-TIME:20200825T170000Z
DTSTAMP;VALUE=DATE-TIME:20240229T164929Z
UID:indico-contribution-141-0-570@ictp.it
DESCRIPTION:Speakers: EDGAR SHAGHOULIAN - GROUP A / RAGHU MAHAJAN - GROUP 
 B (Cornell / Stanford)\nTwo Separete Rooms: Group A & Group B\n(not LiveSt
 reamed on YouTube)\n\n//indico.ictp.it/event/9424/session/141/contribution
 /570
LOCATION:Zoom Meeting ZOOM
URL://indico.ictp.it/event/9424/session/141/contribution/570
END:VEVENT
BEGIN:VEVENT
SUMMARY:TUTORIAL on More on quantum black holes
DTSTART;VALUE=DATE-TIME:20200825T171500Z
DTEND;VALUE=DATE-TIME:20200825T180000Z
DTSTAMP;VALUE=DATE-TIME:20240229T164929Z
UID:indico-contribution-141-0-571@ictp.it
DESCRIPTION:Speakers: DOUGLAS STANFORD (Stanford)\n(not LiveStreamed on Yo
 uTube)\n\n//indico.ictp.it/event/9424/session/141/contribution/571
LOCATION:Zoom Meeting ZOOM
URL://indico.ictp.it/event/9424/session/141/contribution/571
END:VEVENT
END:VCALENDAR
