BEGIN:VCALENDAR
VERSION:2.0
PRODID:-//CERN//INDICO//EN
BEGIN:VEVENT
SUMMARY:Entanglement in quantum field theory - Lecture 2
DTSTART;VALUE=DATE-TIME:20200901T110000Z
DTEND;VALUE=DATE-TIME:20200901T120000Z
DTSTAMP;VALUE=DATE-TIME:20240229T164836Z
UID:indico-contribution-146-0-586@ictp.it
DESCRIPTION:Speakers: HORACIO CASINI (Centro Atomico Bariloche)\n//indico.
 ictp.it/event/9424/session/146/contribution/586
LOCATION:Zoom Meeting ZOOM
URL://indico.ictp.it/event/9424/session/146/contribution/586
END:VEVENT
BEGIN:VEVENT
SUMMARY:Semi-classics\, adiabatic continuity and  resurgence in quantum th
 eories - Lecture 2
DTSTART;VALUE=DATE-TIME:20200901T121500Z
DTEND;VALUE=DATE-TIME:20200901T131500Z
DTSTAMP;VALUE=DATE-TIME:20240229T164836Z
UID:indico-contribution-146-0-587@ictp.it
DESCRIPTION:Speakers: MITHAT ÜNSAL (North Carolina State University)\n//i
 ndico.ictp.it/event/9424/session/146/contribution/587
LOCATION:Zoom Meeting ZOOM
URL://indico.ictp.it/event/9424/session/146/contribution/587
END:VEVENT
BEGIN:VEVENT
SUMMARY:Introduction to Generalized Global Symmetry and Anomalies - Lectur
 e 2
DTSTART;VALUE=DATE-TIME:20200901T150000Z
DTEND;VALUE=DATE-TIME:20200901T160000Z
DTSTAMP;VALUE=DATE-TIME:20240229T164836Z
UID:indico-contribution-146-0-588@ictp.it
DESCRIPTION:Speakers: CLAY CÓRDOVA (University of Chicago)\n//indico.ictp
 .it/event/9424/session/146/contribution/588
LOCATION:Zoom Meeting ZOOM
URL://indico.ictp.it/event/9424/session/146/contribution/588
END:VEVENT
BEGIN:VEVENT
SUMMARY:TUTORIAL on Entanglement in quantum field theory
DTSTART;VALUE=DATE-TIME:20200901T161500Z
DTEND;VALUE=DATE-TIME:20200901T170000Z
DTSTAMP;VALUE=DATE-TIME:20240229T164836Z
UID:indico-contribution-146-0-589@ictp.it
DESCRIPTION:Speakers: PABLO BUENO (Centro Atomico Bariloche)\n(not LiveStr
 eamed on YouTube)\n\n//indico.ictp.it/event/9424/session/146/contribution/
 589
LOCATION:Zoom Meeting ZOOM
URL://indico.ictp.it/event/9424/session/146/contribution/589
END:VEVENT
BEGIN:VEVENT
SUMMARY:TUTORIAL on Generalized Global Symmetry and Anomalies
DTSTART;VALUE=DATE-TIME:20200901T171500Z
DTEND;VALUE=DATE-TIME:20200901T180000Z
DTSTAMP;VALUE=DATE-TIME:20240229T164836Z
UID:indico-contribution-146-0-590@ictp.it
DESCRIPTION:Speakers: CLAY CÓRDOVA - GROUP A / KANTARO OHMORI - GROUP B (
 University of Chicago / Simons Center for Geometry and Physics)\nTwo Separ
 ete Rooms: Group A & Group B\n(not LiveStreamed on YouTube)\n\n//indico.ic
 tp.it/event/9424/session/146/contribution/590
LOCATION:Zoom Meeting ZOOM
URL://indico.ictp.it/event/9424/session/146/contribution/590
END:VEVENT
END:VCALENDAR
