BEGIN:VCALENDAR
VERSION:2.0
PRODID:-//CERN//INDICO//EN
BEGIN:VEVENT
SUMMARY:RECOGNITION OF EARTHQUAKE PRONE AREAS - INTRODUCTORY LECTURE
DTSTART;VALUE=DATE-TIME:19691231T230000Z
DTEND;VALUE=DATE-TIME:19691231T232000Z
DTSTAMP;VALUE=DATE-TIME:20240229T160706Z
UID:indico-contribution-10@ictp.it
DESCRIPTION:Speakers: V.I. KEILIS- BOROK ()\, A.A SOLOVIEV ()\n//indico.ic
 tp.it/event/a02019/contribution/10
LOCATION:ICTP
URL://indico.ictp.it/event/a02019/contribution/10
END:VEVENT
END:VCALENDAR
