BEGIN:VCALENDAR
VERSION:2.0
PRODID:-//CERN//INDICO//EN
BEGIN:VEVENT
SUMMARY:CRACK FUSION DYNAMICS: EARTHQUAKES AS A PROBLEM IN STATISTICAL MEC
 HANICS
DTSTART;VALUE=DATE-TIME:19691231T230000Z
DTEND;VALUE=DATE-TIME:19691231T232000Z
DTSTAMP;VALUE=DATE-TIME:20240229T160712Z
UID:indico-contribution-22@ictp.it
DESCRIPTION:Speakers: L. KNOPOFF ()\n//indico.ictp.it/event/a02019/contrib
 ution/22
LOCATION:ICTP
URL://indico.ictp.it/event/a02019/contribution/22
END:VEVENT
END:VCALENDAR
