BEGIN:VCALENDAR
VERSION:2.0
PRODID:-//CERN//INDICO//EN
BEGIN:VEVENT
SUMMARY:EXPLORATION OF TRADITIONAL PHENOMENA PRECEDING EARTHQUAKES
DTSTART;VALUE=DATE-TIME:19691231T230000Z
DTEND;VALUE=DATE-TIME:19691231T232000Z
DTSTAMP;VALUE=DATE-TIME:20240229T160646Z
UID:indico-contribution-24@ictp.it
DESCRIPTION:Speakers: H. TRIBUSCH ()\n//indico.ictp.it/event/a02019/contri
 bution/24
LOCATION:ICTP
URL://indico.ictp.it/event/a02019/contribution/24
END:VEVENT
END:VCALENDAR
