BEGIN:VCALENDAR
VERSION:2.0
PRODID:-//CERN//INDICO//EN
BEGIN:VEVENT
SUMMARY:NEW STATISTICS OF SEISMICITY RELEVANT TO PREDICTION STUDIES
DTSTART;VALUE=DATE-TIME:19691231T230000Z
DTEND;VALUE=DATE-TIME:19691231T232000Z
DTSTAMP;VALUE=DATE-TIME:20240229T160655Z
UID:indico-contribution-25@ictp.it
DESCRIPTION:Speakers: A.G. PROZOROV ()\n//indico.ictp.it/event/a02019/cont
 ribution/25
LOCATION:ICTP
URL://indico.ictp.it/event/a02019/contribution/25
END:VEVENT
END:VCALENDAR
