BEGIN:VCALENDAR
VERSION:2.0
PRODID:-//CERN//INDICO//EN
BEGIN:VEVENT
SUMMARY:BURST OF AFTERSHOCKS\, LONG-TERM PRECURSORS OF STRONG EARTHQUAKES
DTSTART;VALUE=DATE-TIME:19691231T230000Z
DTEND;VALUE=DATE-TIME:19691231T232000Z
DTSTAMP;VALUE=DATE-TIME:20240229T160702Z
UID:indico-contribution-3@ictp.it
DESCRIPTION:Speakers: V.I. KEILIS- BOROK ()\n//indico.ictp.it/event/a02019
 /contribution/3
LOCATION:ICTP
URL://indico.ictp.it/event/a02019/contribution/3
END:VEVENT
END:VCALENDAR
