BEGIN:VCALENDAR
VERSION:2.0
PRODID:-//CERN//INDICO//EN
BEGIN:VEVENT
SUMMARY:FORMAL MORPHOSTRUCURAL ZONING OF MOUNTAIN TERRITORIES
DTSTART;VALUE=DATE-TIME:19691231T230000Z
DTEND;VALUE=DATE-TIME:19691231T232000Z
DTSTAMP;VALUE=DATE-TIME:20240229T160718Z
UID:indico-contribution-4@ictp.it
DESCRIPTION:Speakers: M. QLEKSEEVSKAYA ET AL. ()\n//indico.ictp.it/event/a
 02019/contribution/4
LOCATION:ICTP
URL://indico.ictp.it/event/a02019/contribution/4
END:VEVENT
END:VCALENDAR
