BEGIN:VCALENDAR
VERSION:2.0
PRODID:-//CERN//INDICO//EN
BEGIN:VEVENT
SUMMARY:EXERCISES TO THE DIAGNOSIS OF PATTERN B (BURST OF AFTERSHOCKS) USI
 NG THE PROGRAMS SUBCAT\, DISTR\,
DTSTART;VALUE=DATE-TIME:19691231T230000Z
DTEND;VALUE=DATE-TIME:19691231T232000Z
DTSTAMP;VALUE=DATE-TIME:20240229T160640Z
UID:indico-contribution-8@ictp.it
DESCRIPTION:Speakers: \n//indico.ictp.it/event/a02019/contribution/8
LOCATION:ICTP
URL://indico.ictp.it/event/a02019/contribution/8
END:VEVENT
END:VCALENDAR
