BEGIN:VCALENDAR
VERSION:2.0
PRODID:-//CERN//INDICO//EN
BEGIN:VEVENT
SUMMARY:I. SMALL ANGLE X-RAY DIFFRACTION AND SCATTERING - II. X-RAY DIFFRA
 CTION FROM MUSCLE
DTSTART;VALUE=DATE-TIME:19691231T230000Z
DTEND;VALUE=DATE-TIME:19691231T232000Z
DTSTAMP;VALUE=DATE-TIME:20240229T173218Z
UID:indico-contribution-10@ictp.it
DESCRIPTION:Speakers: A.R. FARUQI ()\n//indico.ictp.it/event/a02041/contri
 bution/10
LOCATION:ICTP
URL://indico.ictp.it/event/a02041/contribution/10
END:VEVENT
END:VCALENDAR
